Workbook

Sheet 참가신청서
A1: [참가신청서 제출 안내] 1. 참가신청서는 엑셀(.xlsx) 파일로만 제출 가능합니다. (PDF, 이미지 파일 제출 불가) 2. 신청서 서식(항목명, 구조, 시트 구성)은 수정할 수 없으며, 서식 변경 시 접수가 인정되지 않습니다. 3. 지정 파일명으로 제출하여 주십시오(26 AIIA_기업명_참가신청서.xlsx) 4. 제출된 신청서와 제출서류는 접수 마감 이후 수정이 불가하며, 보완 요청이 있는 경우에 한해 재제출을 요청드릴 수 있습니다.
A2: 「2026년 AI·디지털 비즈니스 파트너십 특화 프로그램」참가신청서
A3: 기 업 명 | B3: 국 문 | D3: 영 문
A4: 회사 개요 | B4: 대표자명 | D4: 설립일자
B5: 기업구분 | D5: 사업자등록번호
B6: 상장여부 | D6: *IPO계획有 (예상년도)
B7: 주 소(국내)
B8: 영문홈페이지 | D8: 영문링크드인 | E8: 기업 운영 링크드인 계정 있을 시 작성
B9: 매출유형 | C9: B2B, B2C, B2G 등 | D9: 직 원 수 | E9: 상시 근로자수
B10: 회사소개
B11: 산업분류 | C11: Enterprise / B2B, Healthcare, Finance, Industry, Consumer & Platform | D11: 기술분야/서비스 | E11: 예시)AI를 활용한 자동 공정 및 위험 예측
B12: 전년도 매출액 전체(KRW)
B13: 전년도 해외 매출액(KRW) | D13: 전년도 해외 수출액(KRW)
B14: 최종 투자유치 현황 | C14: 일시 | D14: 투자 단계(최종) | E14: 최종 종료된 투자라운드 유치액(KRW))
B16: 누적투자액(KRW) | D16: 비고 | E16: 해외 투자(미국)
A17: 주요 참여인력 | B17: 성명 | C17: 직위 | D17: 휴대전화 | E17: 이메일
A18: 총괄책임
A19: 실무책임
A20: 해외 진출 국가 | B20: 구분 | C20: 기 진출국가(복수 국가는 줄바꿈 또는 콤마로 구분) | D20: 주요내용 | E20: 비고(추진중인 해외진출 건)
B21: 법인설립, 수출/해외매출 | C21: 미국, 인도, 베트남 | D21: 미국 실리콘밸리 법인설립(25.1), 인도 수출중, 베트남 지사(24.12) | E21: 뉴저지 법인설립 예정(26.5), 일본 신규 계약수주(26.1)
A22: 관련법령과 규정을 준수하고, 「2026년 AI·디지털 비즈니스 파트너십 특화 프로그램」의 사업계획서를 제출합니다. 아울러, 동 신청서와 함께 제출하는 모든서류의 내용이 사실임을 확약하며, 만약 사실이 아닐 경우, 선정 취소, 협약 해약 등의 어떠한 불이익도 감수하겠습니다.
A23: 기업명 | B23: 기업명작성 | C23: 총괄책임자 : | D23: 성 함 | E23: (인)
C24: 대표(기관장): | D24: 성 함 | E24: (직인)

Sheet X작성하지말것X(자동화DB)
A1: 기업명_국문 | B1: 기업명_영문 | C1: 대표자명 | D1: 설립일자 | E1: 기업구분 | F1: 사업자등록번호 | G1: 상장여부 | H1: IPO계획년도 | I1: 국내주소 | J1: 해외주소 | K1: 영문홈페이지 | L1: 영문링크드인 | M1: 매출유형 | N1: 직원수 | O1: 회사소개 | P1: 산업분류 | Q1: 기술분야_서비스 | R1: 전년도매출액 | S1: 전년도해외매출액 | T1: 전년도해외수출액 | U1: 최종투자일자 | V1: 최종투자단계 | W1: 최종클로징된 투자 라운드 유치액 | X1: 누적투자액 | Y1: 비고_해외투자 | Z1: 총괄책임자_성명 | AA1: 총괄책임자_직위 | AB1: 총괄책임자_전화 | AC1: 총괄책임자_이메일 | AD1: 실무책임자_성명 | AE1: 실무책임자_직위 | AF1: 실무책임자_전화 | AG1: 실무책임자_이메일 | AH1: 해외진출구분 | AI1: 해외진출국가 | AJ1: 해외진출내용 | AK1: 비고
A2: =참가신청서!C3 -> 0 | B2: =참가신청서!E3 -> 0 | C2: =참가신청서!C4 -> 0 | D2: =참가신청서!E4 -> 0 | E2: =참가신청서!C5 -> 0 | F2: =참가신청서!E5 -> 0 | G2: =참가신청서!C6 -> 0 | H2: =참가신청서!E6 -> 0 | I2: =참가신청서!C7 -> 0 | J2: =참가신청서!E7 -> 0 | K2: =참가신청서!C8 -> 0 | L2: =참가신청서!E8 -> 기업 운영 링크드인 계정 있을 시 작성 | M2: =참가신청서!C9 -> B2B, B2C, B2G 등 | N2: =참가신청서!E9 -> 상시 근로자수 | O2: =참가신청서!C10 -> 0 | P2: =참가신청서!C11 -> Enterprise / B2B, Healthcare, Finance, Industry, Consumer & Platform | Q2: =참가신청서!E11 -> 예시)AI를 활용한 자동 공정 및 위험 예측 | R2: =참가신청서!C12 -> 0 | S2: =참가신청서!C13 -> 0 | T2: =참가신청서!E13 -> 0 | U2: =참가신청서!C15 -> 0 | V2: =참가신청서!D15 -> 0 | W2: =참가신청서!E15 -> 0 | X2: =참가신청서!C16 -> 0 | Y2: =참가신청서!E16 -> 해외 투자(미국) | Z2: =참가신청서!B18 -> 0 | AA2: =참가신청서!C18 -> 0 | AB2: =참가신청서!D18 -> 0 | AC2: =참가신청서!E18 -> 0 | AD2: =참가신청서!B19 -> 0 | AE2: =참가신청서!C19 -> 0 | AF2: =참가신청서!D19 -> 0 | AG2: =참가신청서!E19 -> 0 | AH2: =참가신청서!B21 -> 법인설립, 수출/해외매출 | AI2: =참가신청서!C21 -> 미국, 인도, 베트남 | AJ2: =참가신청서!D21 -> 미국 실리콘밸리 법인설립(25.1), 인도 수출중, 베트남 지사(24.12) | AK2: =참가신청서!E21 -> 뉴저지 법인설립 예정(26.5), 일본 신규 계약수주(26.1)
