Workbook

Sheet 직접고용계획
A2: * 사업계획서>일자리창출계획 작성시 활용
A4: 1.번호 | B4: 2.구분 | C4: 3.사업명 | D4: 4.과제명 | E4: 5.기관명 | F4: 6.신규/기존 | G4: 7.정규직/비정규직 | H4: 8.성명 | I4: 9.성별 | J4: 10.참여시작일 | K4: 11.참여종료일 | L4: 12.참여율 | M4: 13.4대사회보험가입/미가입 | Q4: 비고(M/Y) *자동계산(임의수정금지)
B5: ①공모사업 | C5: ＊사업명을 기재하시오 | D5: ＊과제명을 기재하시오 | E5: ＊기관명을 기재하시오 | F5: ①신규 | G5: ①정규직 | H5: * 과제 참여인력 전원에 대해 작성 | I5: ①남성 | J5: (YYYY-MM-DD) | K5: (YYYY-MM-DD) | L5: 본과제참여율 (예:50%일 경우->50) | M5: 고용보험 | N5: 건강보험 | O5: 국민연금 | P5: 산재보험
B6: ②정책지정 | F6: ②기존 | G6: ②비정규직 | I6: ②여성 | M6: ① 가입 | N6: ① 가입 | O6: ① 가입 | P6: ① 가입
B7: ③기타 | M7: ② 미가입 | N7: ② 미가입 | O7: ② 미가입 | P7: ② 미가입
B8: ①공모사업 | C8: 2023년 3D프린팅 재직자 기술 컨설팅 지원 사업 | Q8: =(((K8-J8)/365)*L8) -> 0 | R8: =Q8/100 -> 0
Q9: =(((K9-J9)/365)*L9) -> 0 | R9: =Q9/100 -> 0
Q10: =(((K10-J10)/365)*L10) -> 0 | R10: =Q10/100 -> 0
Q11: =(((K11-J11)/365)*L11) -> 0 | R11: =Q11/100 -> 0
Q12: =(((K12-J12)/365)*L12) -> 0 | R12: =Q12/100 -> 0
Q13: =(((K13-J13)/365)*L13) -> 0 | R13: =Q13/100 -> 0
Q14: =(((K14-J14)/365)*L14) -> 0 | R14: =Q14/100 -> 0
Q15: =(((K15-J15)/365)*L15) -> 0 | R15: =Q15/100 -> 0
Q16: =(((K16-J16)/365)*L16) -> 0 | R16: =Q16/100 -> 0
Q17: =(((K17-J17)/365)*L17) -> 0 | R17: =Q17/100 -> 0
Q18: =(((K18-J18)/365)*L18) -> 0 | R18: =Q18/100 -> 0
Q19: =(((K19-J19)/365)*L19) -> 0 | R19: =Q19/100 -> 0
Q20: =(((K20-J20)/365)*L20) -> 0 | R20: =Q20/100 -> 0
... Q34: =(((K34-J34)/365)*L34) -> 0 | R34: =Q34/100 -> 0

Sheet 직접고용효과(자동계산)
A2: * 시트1(직접고용계획) 작성시 자동계산됨 (임의수정금지)
A4: 구분 | C4: 전체 | E4: M/Y
A5: 직접고용규모 | B5: 총인원수 | C5: =COUNT(직접고용계획!A8:A3955) -> 0 | E5: =SUM(직접고용계획!R8:R3955) -> 0
B6: 정규직 | C6: =COUNTIF(직접고용계획!G8:G3955,"①정규직") -> 0 | E6: =SUMIF(직접고용계획!$G$8:$G$3955,"①정규직",직접고용계획!$R$8:$R$3955) -> 0
B7: 비정규직 | C7: =COUNTIF(직접고용계획!G8:G3955,"②비정규직") -> 0 | E7: =SUMIF(직접고용계획!$G$8:$G$3955,"②비정규직",직접고용계획!$R$8:$R$3955) -> 0
A8: 신규채용규모 | B8: 총인원수 | C8: =COUNTIF(직접고용계획!F8:F3955,직접고용계획!F5) -> 0 | E8: =SUMIF(직접고용계획!$F$8:$F$3955,직접고용계획!F5,직접고용계획!R8:R3955) -> 0
B9: 정규직 | C9: =COUNTIFS(직접고용계획!F8:F3955,직접고용계획!F5,직접고용계획!G8:G3955,직접고용계획!G5) -> 0 | E9: =SUMIFS(직접고용계획!R8:R3955,직접고용계획!F8:F3955,직접고용계획!F5,직접고용계획!G8:G3955,직접고용계획!G5) -> 0
B10: 비정규직 | C10: =COUNTIFS(직접고용계획!F8:F3955,직접고용계획!F5,직접고용계획!G8:G3955,직접고용계획!G6) -> 0 | E10: =SUMIFS(직접고용계획!R8:R3955,직접고용계획!F8:F3955,직접고용계획!F5,직접고용계획!G8:G3955,직접고용계획!G6) -> 0
A11: 4대사회보험가입정도 | B11: 고용보험 | C11: =COUNTIF(직접고용계획!M8:M3955,직접고용계획!M6) -> 0 | D11: =(C11/$C$5)*100 -> #DIV/0! | E11: =SUMIFS(직접고용계획!R8:R3955,직접고용계획!M8:M3955,직접고용계획!M6) -> 0 | F11: =(E11/$E$5)*100 -> #DIV/0!
B12: 건강보험 | C12: =COUNTIF(직접고용계획!N8:N3955,직접고용계획!N6) -> 0 | D12: =(C12/$C$5)*100 -> #DIV/0! | E12: =SUMIFS(직접고용계획!R8:R3955,직접고용계획!N8:N3955,직접고용계획!N6) -> 0 | F12: =(E12/$E$5)*100 -> #DIV/0!
B13: 국민연금 | C13: =COUNTIF(직접고용계획!O8:O3955,직접고용계획!O6) -> 0 | D13: =(C13/$C$5)*100 -> #DIV/0! | E13: =SUMIFS(직접고용계획!R8:R3955,직접고용계획!O8:O3955,직접고용계획!O6) -> 0 | F13: =(E13/$E$5)*100 -> #DIV/0!
B14: 산재보험 | C14: =COUNTIF(직접고용계획!P8:P3955,직접고용계획!P6) -> 0 | D14: =(C14/$C$5)*100 -> #DIV/0! | E14: =SUMIFS(직접고용계획!R8:R3955,직접고용계획!P8:P3955,직접고용계획!P6) -> 0 | F14: =(E14/$E$5)*100 -> #DIV/0!
